BEGIN:VCALENDAR
VERSION:2.0
PRODID:Events Booking
BEGIN:VEVENT
UID:69ed3bb3d0a79
SUMMARY:Sommet citoyen européen: 1 équipe - 11 millions de décideurs
DESCRIPTION:Conférence débat - 4ème édition
 Santé (nouvel Ordre des 
 médecins)\, 5G\, Politique\, Démocratie\, Liberté\, Solution\, Economie
 \, Pouvoir d' achat\, Droit humain &amp\; fondamontaux\, Finance\; Guerres
 \, Wokisme\, Pènuries\, Crédit social\, Fakes News\, Enseignement\, Euro
 pe\, Victimes\, Inflation\, Climat/Ecologie\, Corruption\, Société\, Syn
 dicats\, GJ...
 Voici une série de thèmes qui seront débattus avec vou
 s et nos orateurs (la liste non encore définitive)
 Entréé prix libre 
 - Bar\, snacks\, BBQ (prévoir de l' argent liquide)
 Pour faire un don: 
 BE45 7320 5864 0389
 &nbsp\;
 &nbsp\;
LOCATION:Chaussée de Tervueren - Tervuursesteenweg\, Auderghem - Oudergem\
 , 1160 Brussels-Capital\, Belgium
DTSTART:20230513T080000Z
DTEND:20230514T160000Z
DTSTAMP:20230423T070241Z
ORGANIZER;CN=The BAM! agenda:MAILTO:events@bam.news
GEO:50.816405;4.435805
X-APPLE-STRUCTURED-LOCATION;VALUE=URI;X-ADDRESS=Chaussée de Tervueren - Te
 rvuursesteenweg\, Auderghem - Oudergem\, 1160 Brussels-Capital\, Belgium;X
 -APPLE-RADIUS=72;X-TITLE=Ch de Tervuren 129\, Auderghem:50.816405;4.435805
END:VEVENT
END:VCALENDAR