BEGIN:VCALENDAR
VERSION:2.0
PRODID:Events Booking
BEGIN:VEVENT
UID:69ecdb1ecc4b8
SUMMARY:Jugement - la Loi Pandémie - Court Constitutionnelle
DESCRIPTION:Décision sur la plainte introduite par Maître Thierry Vanderl
 inden\, Notre Bon Droit et le Graap.
 Venez nombreux !
  
  
  
LOCATION:Place Royale - Koningsplein\, Brussels\, 1000 Brussels-Capital\, B
 elgium
DTSTART:20221123T130000Z
DTSTAMP:20221110T111248Z
ORGANIZER;CN=The BAM! agenda:MAILTO:events@bam.news
GEO:50.842119;4.360459
X-APPLE-STRUCTURED-LOCATION;VALUE=URI;X-ADDRESS=Place Royale - Koningsplein
 \, Brussels\, 1000 Brussels-Capital\, Belgium;X-APPLE-RADIUS=72;X-TITLE=Co
 urt Constitutionelle Belge:50.842119;4.360459
END:VEVENT
END:VCALENDAR