BEGIN:VCALENDAR
VERSION:2.0
PRODID:Events Booking
BEGIN:VEVENT
UID:69ecb6fa71871
SUMMARY:En soutien au Dr. Laurence Kayser
DESCRIPTION:En soutien au Dr. Laurence Kayser
 Lieu: Rue des Archers\, Mon
 s
  
  
  
  
  
  
LOCATION:Rue des Archers\, Mons\, 7000 Hainaut\, Belgium
DTSTART:20230405T160000Z
DTSTAMP:20230316T094707Z
ORGANIZER;CN=The BAM! agenda:MAILTO:events@bam.news
GEO:50.452368;3.957641
X-APPLE-STRUCTURED-LOCATION;VALUE=URI;X-ADDRESS=Rue des Archers\, Mons\, 70
 00 Hainaut\, Belgium;X-APPLE-RADIUS=72;X-TITLE=rue des archers 6\, 7000 Mo
 ns:50.452368;3.957641
END:VEVENT
END:VCALENDAR