BEGIN:VCALENDAR
VERSION:2.0
PRODID:Events Booking
BEGIN:VEVENT
UID:69ecdb181f6d3
SUMMARY:Conférence-débat avec Dr Perronne et Dr Bouilllon
DESCRIPTION:Le Docteur David Bouillon et son ami le Professeur Christian Pe
 rronne vous invitent à la conférence débat 
  
  
  
  
  

   
LOCATION:Arlon\, 6700 Luxembourg\, Belgium
DTSTART:20230318T110000Z
DTSTAMP:20230214T075515Z
ORGANIZER;CN=The BAM! agenda:MAILTO:events@bam.news
GEO:49.672644;5.816646
X-APPLE-STRUCTURED-LOCATION;VALUE=URI;X-ADDRESS=Arlon\, 6700 Luxembourg\, B
 elgium;X-APPLE-RADIUS=72;X-TITLE=Arlon:49.672644;5.816646
END:VEVENT
END:VCALENDAR