BEGIN:VCALENDAR
VERSION:2.0
PRODID:Events Booking
BEGIN:VEVENT
UID:69ebc51add3b9
SUMMARY:Événement international : La Victoire des Fourmis
DESCRIPTION:Durant 3 jours\, plus de 25 orateurs belges et étrangers viend
 ront parler de la santé\, la réinformation\, la liberté et autres sujet
 s sociétaux.
 14-15-16 avril à Namur
 Toutes les informations sur : w
 ww.lavictoiredesfourmis.com
  
  
  
  
  
  
  
DTSTART:20230413T220000Z
DTEND:20230415T220000Z
DTSTAMP:20230307T081527Z
ORGANIZER;CN=The BAM! agenda:MAILTO:events@bam.news
END:VEVENT
END:VCALENDAR